BEGIN:VCALENDAR
VERSION:2.0
PRODID:-//Prevent Blindness Wisconsin - ECPv6.15.20//NONSGML v1.0//EN
CALSCALE:GREGORIAN
METHOD:PUBLISH
X-WR-CALNAME:Prevent Blindness Wisconsin
X-ORIGINAL-URL:https://wisconsin.preventblindness.org
X-WR-CALDESC:Events for Prevent Blindness Wisconsin
REFRESH-INTERVAL;VALUE=DURATION:PT1H
X-Robots-Tag:noindex
X-PUBLISHED-TTL:PT1H
BEGIN:VTIMEZONE
TZID:UTC
BEGIN:STANDARD
TZOFFSETFROM:+0000
TZOFFSETTO:+0000
TZNAME:UTC
DTSTART:20250101T000000
END:STANDARD
END:VTIMEZONE
BEGIN:VEVENT
DTSTART;VALUE=DATE:20260601
DTEND;VALUE=DATE:20260602
DTSTAMP:20260423T144707
CREATED:20260322T225401Z
LAST-MODIFIED:20260322T225401Z
UID:10000007-1780272000-1780358399@wisconsin.preventblindness.org
SUMMARY:31st Annual Swing for Sight Golf Outing
DESCRIPTION:
URL:https://wisconsin.preventblindness.org/calendar/31st-annual-swing-for-sight-golf-outing/
LOCATION:Ozaukee Country Club\, 10823 N. River Road\, Mequon\, WI\, 53092\, United States
ATTACH;FMTTYPE=image/png:https://wisconsin.preventblindness.org/wp-content/uploads/sites/15/2026/01/2026-Golf-Postcard-1.png
END:VEVENT
END:VCALENDAR