BEGIN:VCALENDAR
VERSION:2.0
PRODID:-//Prevent Blindness Wisconsin - ECPv6.15.20//NONSGML v1.0//EN
CALSCALE:GREGORIAN
METHOD:PUBLISH
X-ORIGINAL-URL:https://wisconsin.preventblindness.org
X-WR-CALDESC:Events for Prevent Blindness Wisconsin
REFRESH-INTERVAL;VALUE=DURATION:PT1H
X-Robots-Tag:noindex
X-PUBLISHED-TTL:PT1H
BEGIN:VTIMEZONE
TZID:America/Chicago
BEGIN:DAYLIGHT
TZOFFSETFROM:-0600
TZOFFSETTO:-0500
TZNAME:CDT
DTSTART:20240310T080000
END:DAYLIGHT
BEGIN:STANDARD
TZOFFSETFROM:-0500
TZOFFSETTO:-0600
TZNAME:CST
DTSTART:20241103T070000
END:STANDARD
BEGIN:DAYLIGHT
TZOFFSETFROM:-0600
TZOFFSETTO:-0500
TZNAME:CDT
DTSTART:20250309T080000
END:DAYLIGHT
BEGIN:STANDARD
TZOFFSETFROM:-0500
TZOFFSETTO:-0600
TZNAME:CST
DTSTART:20251102T070000
END:STANDARD
BEGIN:DAYLIGHT
TZOFFSETFROM:-0600
TZOFFSETTO:-0500
TZNAME:CDT
DTSTART:20260308T080000
END:DAYLIGHT
BEGIN:STANDARD
TZOFFSETFROM:-0500
TZOFFSETTO:-0600
TZNAME:CST
DTSTART:20261101T070000
END:STANDARD
END:VTIMEZONE
BEGIN:VEVENT
DTSTART;TZID=America/Chicago:20250602T093000
DTEND;TZID=America/Chicago:20250602T200000
DTSTAMP:20260423T145335
CREATED:20250204T144616Z
LAST-MODIFIED:20250204T144633Z
UID:10000002-1748856600-1748894400@wisconsin.preventblindness.org
SUMMARY:30th Annual Swing for Sight Golf Outing
DESCRIPTION:Join us on Monday\, June 2nd\, at the Ozaukee Country Club for the 30th Annual Swing for Sight Golf Outing as we celebrate 30 years of making a difference! Enjoy a day of fun and friendly competition with an 18-hole scramble\, with morning golf also available for early risers. Proceeds support Prevent Blindness Wisconsin’s mission of early detection of eye conditions to prevent blindness and preserve sight. Don’t miss this special milestone event on the course! \nJoin Us!
URL:https://wisconsin.preventblindness.org/calendar/30th-swing-for-sight-golf-outing/
LOCATION:Ozaukee Country Club\, 10823 N. River Road\, Mequon\, WI\, 53092\, United States
ATTACH;FMTTYPE=image/jpeg:https://wisconsin.preventblindness.org/wp-content/uploads/sites/15/2025/02/golf-featured-image.jpg
END:VEVENT
END:VCALENDAR